BEGIN:VCALENDAR
PRODID:-//Tendenci - The Open Source AMS for Associations//Tendenci Codebase 12 MIMEDIR//EN
VERSION:2.0
METHOD:PUBLISH
BEGIN:VEVENT
DTSTAMP:20260422T040210Z
ORGANIZER:Anna Rowlands
DTSTART:20240518T090000Z
DTEND:20240518T150000Z
LOCATION:Long Mead Barn
TRANSP:OPAQUE
SEQUENCE:0
UID:uid96@nature-recovery-network.org
DESCRIPTION:--- This iCal file does *NOT* confirm registration.\r\nEvent details subject to change. ---\r\nhttps://nature-recovery-network.org/events/96/\r\n\r\nEvent Title: Water Vole Survey\r\nStart Date / Time: May 18, 2024 10:00 AM Europe/London\r\nLocation: Long Mead Barn\r\nGoogle\r\nhttp://maps.google.com/maps?q=Oxford+Road,Swinford,OX29 4BT\r\n\r\nForecast\nhttp://www.weather.com/weather/monthly/OX29 4BT\r\n\r\nThe NRN Annual Water Vole Survey Update\r\nDate for your diary: Saturday 18th May 2024, 10:00 &ndash\; 16:00, meet at Long Mead Barn. Bring a packed lunch and wear suitable clothing (long-sleeved clothing, sturdy boots or wellies, and bring along some gardening gloves and maybe even a walking/ranging pole).\r\nWe at the NRN are moving into our third year of annual water vole surveys, and any data collected from these surveys are being shared with the local biological records centre (TVERC) as well as with BBOWT.\r\nWe invite you as volunteers to come and join us in the survey, and you will be paired up with an experienced lead water vole surveyor. Surveys are based on looking for signs of water voles in the context of droppings, footprints, feeding remains, latrines, paths and burrows.  If you are very quiet, you may in fact see a water vole with your own eyes.  This has been a really fun and interesting day previously. Gaining experience in these surveys means that you can get involved in years to come.\r\n2023 was our first year where we undertook detailed surveys along different sections of the River Thames water network in and around Long Mead. We identified water vole populations living along the Wharf Stream, River Thames, Limb Brook and Eynsham Mead Ditch.  We hope to continue surveying these sections on an annual basis to monitor the continued status of these local water vole populations. This year we are considering adding some additional sites to our survey area, after confirming the presence of water voles at the Fish Ponds, which connects to the Chillbrook.\r\nSo come along, enjoy a day with Ratty and gain some experience and enjoy the outdoors and beauty of Eynsham.\r\nAnna Rowlands\r\nPlease make sure that you sign up on the website as we really need to keep track of numbers. --- This iCal file does *NOT* confirm registration.Event details subject to change. ---\r\n\r\n--- By Tendenci - The Open Source AMS for Associations ---\r\n
X-ALT-DESC;FMTTYPE=text/html:<div>--- This iCal file does *NOT* confirm registration.Event details subject to change. ---</div><h1>Event Title: Water Vole Survey</h1><div>https://nature-recovery-network.org/events/96/</div><br /><div>When: May 18, 2024 10:00 AM Europe/London</div><br />Long Mead Barn<br />Oxford Road<br /> OX29 4BT<br /><div>http://maps.google.com/maps?q=Oxford+Road,Swinford,OX29 4BT</div><br /><div>Forecast: http://www.weather.com/weather/monthly/OX29 4BT</div><br /><br /><div><p style="font-weight: 400\;"><strong>The NRN Annual Water Vole Survey Update</strong></p>
<p style="font-weight: 400\;"><strong>Date for your diary:</strong>&nbsp\;Saturday 18<sup>th</sup>&nbsp\;May 2024, 10:00 &ndash\; 16:00, meet at Long Mead Barn. Bring a packed lunch and wear suitable clothing (long-sleeved clothing, sturdy boots or wellies, and bring along some gardening gloves and maybe even a walking/ranging pole).</p>
<p style="font-weight: 400\;">We at the NRN are moving into our third year of annual water vole surveys, and any data collected from these surveys are being shared with the local biological records centre (TVERC) as well as with BBOWT.</p>
<p style="font-weight: 400\;">We invite you as volunteers to come and join us in the survey, and you will be paired up with&nbsp\;an&nbsp\;experienced lead water vole surveyor.&nbsp\;Surveys are based on looking for signs of water voles in the context of droppings, footprints, feeding remains, latrines, paths and burrows. &nbsp\;If you are very quiet, you may in fact see a water vole with your own eyes.&nbsp\; This has been a really fun and interesting day previously. Gaining experience in these surveys means that you can get involved in years to come.</p>
<p style="font-weight: 400\;">2023 was our first year where we undertook detailed surveys along different sections of the River Thames water network in and around Long Mead. We identified water vole populations living along the Wharf Stream, River Thames, Limb Brook and Eynsham Mead Ditch.&nbsp\; We hope to continue surveying these sections on an annual basis to monitor the continued status of these local water vole populations.&nbsp\;This year we are considering adding some additional sites to our survey area, after confirming the presence of water voles at the Fish Ponds, which connects to the Chillbrook.</p>
<p style="font-weight: 400\;">So come along, enjoy a day with Ratty and gain some experience and enjoy the outdoors and beauty of Eynsham.</p>
<p style="font-weight: 400\;"><em>Anna Rowlands</em></p>
<p><strong>Please make sure that you sign up on the website as we really need to keep track of numbers.&nbsp\;</strong></p></div><div>--- This iCal file does *NOT* confirm registration.Event details subject to change. ---</div><div>--- Tendenci&reg\; Software by <a href="https://www.tendenci.com">tendenci.com</a> - The Open Source AMS for Associations ---</div>
SUMMARY:Water Vole Survey
PRIORITY:5
CLASS:PUBLIC
BEGIN:VALARM
TRIGGER:-PT30M
ACTION:DISPLAY
DESCRIPTION:Reminder
END:VALARM
END:VEVENT
END:VCALENDAR
