BEGIN:VCALENDAR
PRODID:-//Tendenci - The Open Source AMS for Associations//Tendenci Codebase 12 MIMEDIR//EN
VERSION:2.0
METHOD:PUBLISH
BEGIN:VEVENT
DTSTAMP:20260422T192708Z
ORGANIZER:Lucy Stoddart
DTSTART:20210515T043000Z
DTEND:20210515T060000Z
LOCATION:Windrush
TRANSP:OPAQUE
SEQUENCE:0
UID:uid6@nature-recovery-network.org
DESCRIPTION:--- This iCal file does *NOT* confirm registration.\r\nEvent details subject to change. ---\r\nhttps://nature-recovery-network.org/events/6/\r\n\r\nEvent Title: Water Vole Survey Training\r\nStart Date / Time: May 15, 2021 06:30 AM Europe/Zurich\r\nLocation: Windrush\r\nWater vole survey training event this Saturday 15th May.\r\nCome and join us on the River Windrush near Witney to hunt for the indicative field signs of this elusive mammal. Once you've got your eye in, bring your skills back to Eynsham and South Leigh and help us record their whereabouts. Water voles have suffered a catastrophic national decline in recent years, but 2020 offered a glimmer of hope when they returned to the Limb Brook at South Leigh and field signs were found along the River Thames near the Swinford Toll Bridge\; have the voles recolonised the brook downstream or elsewhere in Eynsham?\r\n \r\nPlease sign up by emailing lirstoddart@gmail.com by midday on the 14th May to reserve your place and receive joining instructions. Places will be allocated on a first come first served basis for the session starting at 13:30. If there is sufficient interest, a second session will run from 15:30 and you will be notified to which group you have been allocated.\r\n --- This iCal file does *NOT* confirm registration.Event details subject to change. ---\r\n\r\n--- By Tendenci - The Open Source AMS for Associations ---\r\n
X-ALT-DESC;FMTTYPE=text/html:<div>--- This iCal file does *NOT* confirm registration.Event details subject to change. ---</div><h1>Event Title: Water Vole Survey Training</h1><div>https://nature-recovery-network.org/events/6/</div><br /><div>When: May 15, 2021 06:30 AM Europe/Zurich</div><br /><div><div class="" style="font-style: normal\; font-variant-caps: normal\; font-weight: normal\; letter-spacing: normal\; text-align: start\; text-indent: 0px\; text-transform: none\; white-space: normal\; word-spacing: 0px\; -webkit-text-stroke-width: 0px\; text-decoration: none\; font-family: Calibri, Arial, Helvetica, sans-serif\; font-size: 12pt\;"><em class=""><strong class="">Water vole survey training event this Saturday 15th May</strong>.</em></div>
<div class="" style="font-style: normal\; font-variant-caps: normal\; font-weight: normal\; letter-spacing: normal\; text-align: start\; text-indent: 0px\; text-transform: none\; white-space: normal\; word-spacing: 0px\; -webkit-text-stroke-width: 0px\; text-decoration: none\; font-family: Calibri, Arial, Helvetica, sans-serif\; font-size: 12pt\;"><em class="">Come and join us on the River Windrush near Witney to hunt for the indicative field signs of this elusive mammal. Once you've got your eye in, bring your skills back to Eynsham and South Leigh and help us record their whereabouts. Water voles have suffered a catastrophic national decline in recent years, but 2020 offered a glimmer of hope when they returned to the Limb Brook at South Leigh and field signs were found along the River Thames near the Swinford Toll Bridge\; have the voles recolonised the brook downstream or elsewhere in Eynsham?</em></div>
<div class="" style="font-style: normal\; font-variant-caps: normal\; font-weight: normal\; letter-spacing: normal\; text-align: start\; text-indent: 0px\; text-transform: none\; white-space: normal\; word-spacing: 0px\; -webkit-text-stroke-width: 0px\; text-decoration: none\; font-family: Calibri, Arial, Helvetica, sans-serif\; font-size: 12pt\;"><em class="">&nbsp\;</em></div>
<div class="" style="font-style: normal\; font-variant-caps: normal\; font-weight: normal\; letter-spacing: normal\; text-align: start\; text-indent: 0px\; text-transform: none\; white-space: normal\; word-spacing: 0px\; -webkit-text-stroke-width: 0px\; text-decoration: none\; font-family: Calibri, Arial, Helvetica, sans-serif\; font-size: 12pt\;"><em class="">Please sign up by emailing <a class="" href="mailto:lirstoddart@gmail.com">lirstoddart@gmail.com</a> by midday on the 14th May to reserve your place and receive joining instructions. Places will be allocated on a first come first served basis for the session starting at 13:30. If there is sufficient interest, a second session will run from 15:30 and you will be notified to which group you have been allocated.</em></div>
<div class="" style="font-style: normal\; font-variant-caps: normal\; font-weight: normal\; letter-spacing: normal\; text-align: start\; text-indent: 0px\; text-transform: none\; white-space: normal\; word-spacing: 0px\; -webkit-text-stroke-width: 0px\; text-decoration: none\; font-family: Calibri, Arial, Helvetica, sans-serif\; font-size: 12pt\;">&nbsp\;</div></div><div>--- This iCal file does *NOT* confirm registration.Event details subject to change. ---</div><div>--- Tendenci&reg\; Software by <a href="https://www.tendenci.com">tendenci.com</a> - The Open Source AMS for Associations ---</div>
SUMMARY:Water Vole Survey Training
PRIORITY:5
CLASS:PUBLIC
BEGIN:VALARM
TRIGGER:-PT30M
ACTION:DISPLAY
DESCRIPTION:Reminder
END:VALARM
END:VEVENT
END:VCALENDAR
