BEGIN:VCALENDAR
PRODID:-//Tendenci - The Open Source AMS for Associations//Tendenci Codebase 12 MIMEDIR//EN
VERSION:2.0
METHOD:PUBLISH
BEGIN:VEVENT
DTSTAMP:20260423T012822Z
ORGANIZER:Nature Recovery Network - Wychwood Project
DTSTART:20210605T033000Z
DTEND:20210605T053000Z
LOCATION:Fishponds
TRANSP:OPAQUE
SEQUENCE:0
UID:uid5@nature-recovery-network.org
DESCRIPTION:--- This iCal file does *NOT* confirm registration.\r\nEvent details subject to change. ---\r\nhttps://nature-recovery-network.org/events/5/\r\n\r\nEvent Title: Reptile Surveys at the Fishponds:  NRN - Wychwood Project Collaboration\r\nStart Date / Time: Jun 05, 2021 03:30 AM GMT\r\nLocation: Fishponds\r\nSpeaker: Neil Clennel\r\nJoin Neil Clennell, Eynsham herpetologist and CEO of Wychwood Project, to learn about slow worms and other reptiles and to start a reptile survey in the Fishponds.\r\n \r\n --- This iCal file does *NOT* confirm registration.Event details subject to change. ---\r\n\r\n--- By Tendenci - The Open Source AMS for Associations ---\r\n
X-ALT-DESC;FMTTYPE=text/html:<div>--- This iCal file does *NOT* confirm registration.Event details subject to change. ---</div><h1>Event Title: Reptile Surveys at the Fishponds:  NRN - Wychwood Project Collaboration</h1><div>https://nature-recovery-network.org/events/5/</div><br /><div>When: Jun 05, 2021 03:30 AM GMT</div><div>Speaker: Neil Clennel</div><br /><div><div class=""><span class="" style="background-color: #ffffff\;"><span style="color: #222222\; font-family: Verdana, Geneva, sans-serif\;"><span class="" style="caret-color: #222222\; font-size: 13px\;">Join Neil Clennell, Eynsham herpetologist and CEO of Wychwood Project, to learn about slow worms and other reptiles and to start a reptile survey in the Fishponds.<br /></span></span></span></div>
<div class=""><span class="" style="caret-color: #222222\; color: #222222\; font-family: Verdana, Geneva, sans-serif\; font-size: 13px\; background-color: #ffffff\;">&nbsp\;</span></div>
<p>&nbsp\;</p></div><div>--- This iCal file does *NOT* confirm registration.Event details subject to change. ---</div><div>--- Tendenci&reg\; Software by <a href="https://www.tendenci.com">tendenci.com</a> - The Open Source AMS for Associations ---</div>
SUMMARY:Reptile Surveys at the Fishponds:  NRN - Wychwood Project Collaboration
PRIORITY:5
CLASS:PUBLIC
BEGIN:VALARM
TRIGGER:-PT30M
ACTION:DISPLAY
DESCRIPTION:Reminder
END:VALARM
END:VEVENT
END:VCALENDAR
