BEGIN:VCALENDAR
PRODID:-//Tendenci - The Open Source AMS for Associations//Tendenci Codebase 12 MIMEDIR//EN
VERSION:2.0
METHOD:PUBLISH
BEGIN:VEVENT
DTSTAMP:20260420T011038Z
ORGANIZER:GreenTEA
DTSTART:20221001T020000Z
DTEND:20221001T050000Z
LOCATION:Sport's Pavillion
TRANSP:OPAQUE
SEQUENCE:0
UID:uid46@nature-recovery-network.org
DESCRIPTION:--- This iCal file does *NOT* confirm registration.\r\nEvent details subject to change. ---\r\nhttps://nature-recovery-network.org/events/46/\r\n\r\nEvent Title: Swap Shop\r\nStart Date / Time: Oct 01, 2022 03:00 AM Europe/London\r\nLocation: Sport's Pavillion\r\nCome by to donate your items between 10am and 11:30am, and take away between 10am and 1pm.--- This iCal file does *NOT* confirm registration.Event details subject to change. ---\r\n\r\n--- By Tendenci - The Open Source AMS for Associations ---\r\n
X-ALT-DESC;FMTTYPE=text/html:<div>--- This iCal file does *NOT* confirm registration.Event details subject to change. ---</div><h1>Event Title: Swap Shop</h1><div>https://nature-recovery-network.org/events/46/</div><br /><div>When: Oct 01, 2022 03:00 AM Europe/London</div><br /><div><p>Come by to donate your items between 10am and 11:30am, and take away between 10am and 1pm.</p></div><div>--- This iCal file does *NOT* confirm registration.Event details subject to change. ---</div><div>--- Tendenci&reg\; Software by <a href="https://www.tendenci.com">tendenci.com</a> - The Open Source AMS for Associations ---</div>
SUMMARY:Swap Shop
PRIORITY:5
CLASS:PUBLIC
BEGIN:VALARM
TRIGGER:-PT30M
ACTION:DISPLAY
DESCRIPTION:Reminder
END:VALARM
END:VEVENT
END:VCALENDAR
