BEGIN:VCALENDAR
PRODID:-//Tendenci - The Open Source AMS for Associations//Tendenci Codebase 12 MIMEDIR//EN
VERSION:2.0
METHOD:PUBLISH
BEGIN:VEVENT
DTSTAMP:20260422T053206Z
ORGANIZER:Long Mead
DTSTART:20220730T013000Z
DTEND:20220730T040000Z
LOCATION:Long Mead Wildlife Site
TRANSP:OPAQUE
SEQUENCE:0
UID:uid34@nature-recovery-network.org
DESCRIPTION:--- This iCal file does *NOT* confirm registration.\r\nEvent details subject to change. ---\r\nhttps://nature-recovery-network.org/events/34/\r\n\r\nEvent Title: Pot on the wildflowers propagated by NRN's Plant Group\r\nStart Date / Time: Jul 30, 2022 03:30 AM Europe/Zurich\r\nLocation: Long Mead Wildlife Site\r\nSpeaker: Catriona Bass\r\nGoogle\r\nhttp://maps.google.com/maps?q=Oxford+Road,Eynsham,Select,OX29 4DU\r\n\r\nForecast\nhttp://www.weather.com/weather/monthly/OX29 4DU\r\n\r\nBy popular demand (and serious need!) potting on NRN's wildflowers is back. They have been collected, sown and nurtured since last summer by NRN's plant propagation group with Long Mead's carefarming participants for planting out in Eynsham's community meadows and other local meadows come the autumn.\r\nCome and get your hands dirty, learn about the individual species of wildflower and picnic afterwards if you fancy under Long Mead's medieval pavillion tent by the river. --- This iCal file does *NOT* confirm registration.Event details subject to change. ---\r\n\r\n--- By Tendenci - The Open Source AMS for Associations ---\r\n
X-ALT-DESC;FMTTYPE=text/html:<div>--- This iCal file does *NOT* confirm registration.Event details subject to change. ---</div><h1>Event Title: Pot on the wildflowers propagated by NRN's Plant Group</h1><div>https://nature-recovery-network.org/events/34/</div><br /><div>When: Jul 30, 2022 03:30 AM Europe/Zurich</div><div>Speaker: Catriona Bass</div><br />Long Mead Wildlife Site<br />Oxford Road<br />Eynsham, Select OX29 4DU<br /><div>http://maps.google.com/maps?q=Oxford+Road,Eynsham,Select,OX29 4DU</div><br /><div>Forecast: http://www.weather.com/weather/monthly/OX29 4DU</div><br /><br /><div><p>By popular demand (and serious need!) potting on NRN's wildflowers is back. They have been collected, sown and nurtured since last summer by NRN's plant propagation group with Long Mead's carefarming participants for planting out in Eynsham's community meadows and other local meadows come the autumn.</p>
<p>Come and get your hands dirty, learn about the individual species of wildflower and picnic afterwards if you fancy under Long Mead's medieval pavillion tent by the river.&nbsp\;</p></div><div>--- This iCal file does *NOT* confirm registration.Event details subject to change. ---</div><div>--- Tendenci&reg\; Software by <a href="https://www.tendenci.com">tendenci.com</a> - The Open Source AMS for Associations ---</div>
SUMMARY:Pot on the wildflowers propagated by NRN's Plant Group
PRIORITY:5
CLASS:PUBLIC
BEGIN:VALARM
TRIGGER:-PT30M
ACTION:DISPLAY
DESCRIPTION:Reminder
END:VALARM
END:VEVENT
END:VCALENDAR
