BEGIN:VCALENDAR
PRODID:-//Tendenci - The Open Source AMS for Associations//Tendenci Codebase 12 MIMEDIR//EN
VERSION:2.0
METHOD:PUBLISH
BEGIN:VEVENT
DTSTAMP:20260425T180730Z
ORGANIZER:Long Mead's Thames Valley Wildflower Meadow Restoration Project
DTSTART:20210709T020000Z
DTEND:20210709T050000Z
LOCATION:Long Mead Local Wildlife Site
TRANSP:OPAQUE
SEQUENCE:0
UID:uid3@nature-recovery-network.org
DESCRIPTION:--- This iCal file does *NOT* confirm registration.\r\nEvent details subject to change. ---\r\nhttps://nature-recovery-network.org/events/3/\r\n\r\nEvent Title: Charles Flower's Wildflower Meadow Creation Workshop 1\r\nStart Date / Time: Jul 09, 2021 03:00 AM Europe/London\r\nLocation: Long Mead Local Wildlife Site\r\nSpeaker: Charles Flower\r\nGoogle\r\nhttp://maps.google.com/maps?q=Oxford+Road,Swinford,OX29 4DU\r\n\r\nForecast\nhttp://www.weather.com/weather/monthly/OX29 4DU\r\n\r\nThis is the first of two Workshops led by the pioneer of meadow creation and restoration, Charles Flower. He will give practical demonstrations about what works and what does not, when restoring wildflowers to garden and countryside.\r\nWorkshop 1 - Establishing wild flowers.\r\nCharles will dive to the heart of the matter with, &lsquo\;Getting wild flower seed to grow&rsquo\; and &lsquo\;Managing your wild flowers&rsquo\;.\r\nAll the answers you need &ndash\; and more - about seedbeds, fertility and the importance of year 1, as well as learning to identify some of the key species in the field.\r\nNOTE: You can register for each workshop separately - i.e. you can attend either or both. --- This iCal file does *NOT* confirm registration.Event details subject to change. ---\r\n\r\n--- By Tendenci - The Open Source AMS for Associations ---\r\n
X-ALT-DESC;FMTTYPE=text/html:<div>--- This iCal file does *NOT* confirm registration.Event details subject to change. ---</div><h1>Event Title: Charles Flower's Wildflower Meadow Creation Workshop 1</h1><div>https://nature-recovery-network.org/events/3/</div><br /><div>When: Jul 09, 2021 03:00 AM Europe/London</div><div>Speaker: Charles Flower</div><br />Long Mead Local Wildlife Site<br />Oxford Road<br /> OX29 4DU<br /><div>http://maps.google.com/maps?q=Oxford+Road,Swinford,OX29 4DU</div><br /><div>Forecast: http://www.weather.com/weather/monthly/OX29 4DU</div><br /><br /><div><p>This is the first of two Workshops led by the pioneer of meadow creation and restoration, Charles Flower. He will give practical demonstrations about what works and what does not, when restoring wildflowers to garden and countryside.</p>
<p><u>Workshop 1 - Establishing wild flowers.</u></p>
<p>Charles will dive to the heart of the matter with, &lsquo\;Getting wild flower seed to grow&rsquo\; and &lsquo\;Managing your wild flowers&rsquo\;.</p>
<p>All the answers&nbsp\;you need &ndash\; and more - about seedbeds, fertility and the importance of&nbsp\;year 1, as well as learning to identify some of the key species in the field.</p>
<div class="" style="margin: 0cm 0cm 0.0001pt\; font-size: 11pt\; font-family: Calibri, sans-serif\;">NOTE: You can register for each workshop separately - i.e. you can attend either or both.&nbsp\;</div></div><div>--- This iCal file does *NOT* confirm registration.Event details subject to change. ---</div><div>--- Tendenci&reg\; Software by <a href="https://www.tendenci.com">tendenci.com</a> - The Open Source AMS for Associations ---</div>
SUMMARY:Charles Flower's Wildflower Meadow Creation Workshop 1
PRIORITY:5
CLASS:PUBLIC
BEGIN:VALARM
TRIGGER:-PT30M
ACTION:DISPLAY
DESCRIPTION:Reminder
END:VALARM
END:VEVENT
END:VCALENDAR
