BEGIN:VCALENDAR
PRODID:-//Tendenci - The Open Source AMS for Associations//Tendenci Codebase 12 MIMEDIR//EN
VERSION:2.0
METHOD:PUBLISH
BEGIN:VEVENT
DTSTAMP:20260423T151253Z
ORGANIZER:Long Mead Foundation & Nature Recovery Network
DTSTART:20261122T100000Z
DTEND:20261122T150000Z
LOCATION:Long Mead Barn / Community Meadows around Eynsham
TRANSP:OPAQUE
SEQUENCE:0
UID:uid251@nature-recovery-network.org
DESCRIPTION:--- This iCal file does *NOT* confirm registration.\r\nEvent details subject to change. ---\r\nhttps://nature-recovery-network.org/events/251/\r\n\r\nEvent Title: Community Meadow Restoration Day: Winter\r\nStart Date / Time: Nov 22, 2026 10:00 AM Europe/London\r\nLocation: Long Mead Barn / Community Meadows around Eynsham\r\nGoogle\r\nhttp://maps.google.com/maps?q=Oxford+Road,Swinford,OX29 4BT\r\n\r\nForecast\nhttp://www.weather.com/weather/monthly/OX29 4BT\r\n\r\nNovember meet up to continue with the restoration of the 50 acres that the Nature Recovery Network have leased adjacent to the river Thames. This is land where we can all help restore the nature around us. \r\n \r\n \r\n \r\nCome to Long Mead for a hands on, positive restorative day together.\r\n \r\nWe will be continuing work to support the restoration of the community meadows - tasks could include: compost making, potting on or planting out rare wildflowers or hedgerow work.\r\n \r\nPlease bring your own drinks and a picnic lunch. There will be cake!\r\n \r\nWe'll meet Long Mead at 10.00am. It is always helpful if you can arrive at the beginning so that we can brief everyone together. But if you can&rsquo\;t make it at the start, check at Long Mead Barn for information about where we are working.\r\n \r\n --- This iCal file does *NOT* confirm registration.Event details subject to change. ---\r\n\r\n--- By Tendenci - The Open Source AMS for Associations ---\r\n
X-ALT-DESC;FMTTYPE=text/html:<div>--- This iCal file does *NOT* confirm registration.Event details subject to change. ---</div><h1>Event Title: Community Meadow Restoration Day: Winter</h1><div>https://nature-recovery-network.org/events/251/</div><br /><div>When: Nov 22, 2026 10:00 AM Europe/London</div><br />Long Mead Barn / Community Meadows around Eynsham<br />Oxford Road<br /> OX29 4BT<br /><div>http://maps.google.com/maps?q=Oxford+Road,Swinford,OX29 4BT</div><br /><div>Forecast: http://www.weather.com/weather/monthly/OX29 4BT</div><br /><br /><div><div>November meet up to continue with the restoration of the 50 acres that the Nature Recovery Network have leased adjacent to the river Thames.&nbsp\;This is land where we can all help restore the nature around us.&nbsp\;</div>
<div>&nbsp\;</div>
<div>&nbsp\;</div>
<div>&nbsp\;</div>
<div>Come to Long Mead for a hands on, positive restorative day together.</div>
<div>&nbsp\;</div>
<div>We will be continuing work to support the restoration of the community meadows - tasks could include: compost making, potting on or planting out rare wildflowers or hedgerow work.</div>
<div>&nbsp\;</div>
<div>Please bring your own drinks and a picnic lunch. There will be cake!</div>
<div>&nbsp\;</div>
<div>We'll meet Long Mead at 10.00am. It is always helpful if you can arrive at the beginning so that we can brief everyone together. But if you can&rsquo\;t make it at the start, check at Long Mead Barn for information about where we are working.</div>
<div>&nbsp\;</div>
<div>&nbsp\;</div></div><div>--- This iCal file does *NOT* confirm registration.Event details subject to change. ---</div><div>--- Tendenci&reg\; Software by <a href="https://www.tendenci.com">tendenci.com</a> - The Open Source AMS for Associations ---</div>
SUMMARY:Community Meadow Restoration Day: Winter
PRIORITY:5
CLASS:PUBLIC
BEGIN:VALARM
TRIGGER:-PT30M
ACTION:DISPLAY
DESCRIPTION:Reminder
END:VALARM
END:VEVENT
END:VCALENDAR
