BEGIN:VCALENDAR
PRODID:-//Tendenci - The Open Source AMS for Associations//Tendenci Codebase 12 MIMEDIR//EN
VERSION:2.0
METHOD:PUBLISH
BEGIN:VEVENT
DTSTAMP:20260423T125105Z
ORGANIZER:Alice Walker Art & Long Mead
DTSTART:20220423T023000Z
DTEND:20220423T053000Z
LOCATION:Long Mead Wildlife Site
TRANSP:OPAQUE
SEQUENCE:0
UID:uid24@nature-recovery-network.org
DESCRIPTION:--- This iCal file does *NOT* confirm registration.\r\nEvent details subject to change. ---\r\nhttps://nature-recovery-network.org/events/24/\r\n\r\nEvent Title: Carbon Capture & Pigment\r\nStart Date / Time: Apr 23, 2022 03:30 AM Europe/London\r\nLocation: Long Mead Wildlife Site\r\nSpeaker: Clare Lawson and Eric White\r\nGoogle\r\nhttp://maps.google.com/maps?q=Swinford,OX29 4DU\r\n\r\nForecast\nhttp://www.weather.com/weather/monthly/OX29 4DU\r\n\r\n\r\nThis unique workshop combines cutting-edge science from Open University expert Dr. Clare Lawson with hands-on exploration of charcoal as an art media led by local artist Eric White. \r\n \r\nClare studies carbon storage in the soils of biodiverse floodplain hay meadows in the local area, including Long Mead's ancient wildflower meadow. Her preliminary results suggest that floodplain meadows can be as good as peat bogs at sequestering carbon. So, this is your chance to dig deeper into the science of Climate Change mitigation and to better understand the world beneath our feet.  \r\n \r\nEric has been perfecting the art of pastels for many years will guide and inspire you to respond artistically to the science using a form of carbon -charcoal. Charcoal itself is a simple transformation of the carbon stored in the trunks and branches of trees. Produced by fire, it has been used since prehistory as a pigment in art and in social rituals and is still valued by artists for its expressive qualities. Whatever your artistic ability Eric will guide and inspire you to use and create with charcoal.\r\n\r\n \r\nCost: &pound\;10 (non members) NRN Members Free but places limited (Adults and Teen)--- This iCal file does *NOT* confirm registration.Event details subject to change. ---\r\n\r\n--- By Tendenci - The Open Source AMS for Associations ---\r\n
X-ALT-DESC;FMTTYPE=text/html:<div>--- This iCal file does *NOT* confirm registration.Event details subject to change. ---</div><h1>Event Title: Carbon Capture & Pigment</h1><div>https://nature-recovery-network.org/events/24/</div><br /><div>When: Apr 23, 2022 03:30 AM Europe/London</div><div>Speaker: Clare Lawson and Eric White</div><br />Long Mead Wildlife Site<br />Swinford<br /> OX29 4DU<br /><div>http://maps.google.com/maps?q=Swinford,OX29 4DU</div><br /><div>Forecast: http://www.weather.com/weather/monthly/OX29 4DU</div><br /><br /><div><div class="">
<div class="">This unique workshop combines cutting-edge science from Open University expert Dr. Clare Lawson with hands-on exploration of charcoal as an art media led by local artist Eric White.&nbsp\;</div>
<div class="">&nbsp\;</div>
<div class="">Clare studies carbon storage in the soils of biodiverse floodplain hay meadows in the local area, including Long Mead's ancient wildflower meadow. Her preliminary results suggest that floodplain meadows can be as good as peat bogs at sequestering carbon.&nbsp\;So, this is your chance to dig deeper into the science of Climate Change mitigation and to better understand the world beneath our feet. &nbsp\;</div>
<div class="">&nbsp\;</div>
<div class="">Eric has been perfecting the art of pastels for many years will guide and inspire you to respond artistically to the science using a form of carbon -charcoal. Charcoal itself is a simple transformation of the carbon stored in the trunks and branches of trees. Produced by fire, it has been used since prehistory as a pigment in art and in social rituals and is still valued by artists for its expressive qualities. Whatever your artistic ability Eric will guide and inspire you to use and create with charcoal.</div>
</div>
<div class="">&nbsp\;</div>
<div class=""><span style="font-family: HelveticaNeue\;">Cost: &pound\;10 (non members) NRN Members Free but places limited (Adults and Teen)</span></div></div><div>--- This iCal file does *NOT* confirm registration.Event details subject to change. ---</div><div>--- Tendenci&reg\; Software by <a href="https://www.tendenci.com">tendenci.com</a> - The Open Source AMS for Associations ---</div>
SUMMARY:Carbon Capture & Pigment
PRIORITY:5
CLASS:PUBLIC
BEGIN:VALARM
TRIGGER:-PT30M
ACTION:DISPLAY
DESCRIPTION:Reminder
END:VALARM
END:VEVENT
END:VCALENDAR
