BEGIN:VCALENDAR
PRODID:-//Tendenci - The Open Source AMS for Associations//Tendenci Codebase 12 MIMEDIR//EN
VERSION:2.0
METHOD:PUBLISH
BEGIN:VEVENT
DTSTAMP:20260420T190321Z
ORGANIZER:Long Mead Foundation & Nature Recovery Network
DTSTART:20251116T100000Z
DTEND:20251116T130000Z
LOCATION:Long Mead Local Wildlife Site
TRANSP:OPAQUE
SEQUENCE:0
UID:uid143@nature-recovery-network.org
DESCRIPTION:--- This iCal file does *NOT* confirm registration.\r\nEvent details subject to change. ---\r\nhttps://nature-recovery-network.org/events/143/\r\n\r\nEvent Title: Eynsham's Wildflower Meadows: planting out\r\nStart Date / Time: Nov 16, 2025 10:00 AM Europe/London\r\nLocation: Long Mead Local Wildlife Site\r\nGoogle\r\nhttp://maps.google.com/maps?q=Oxford+Road,Swinford,OX29 4BT\r\n\r\nForecast\nhttp://www.weather.com/weather/monthly/OX29 4BT\r\n\r\nThese are the glorious Devil's Bit Scabious plants that NRN's plant propagation team have grown for planting out, among other wonderful rare plants, in the new meadows. We have been fabulously supported in this by our friends at FarmAbility and Bridewell who have sown and potted on our wildflowers with us and own their own sites\r\n \r\nIt is always helpful if you can arrive at the beginning so that we can brief everyone together. But if you can&rsquo\;t make it then, we&rsquo\;d love to see you anyway.\r\n \r\nPlease bring gloves and a spade or trowel if you have them. Don't worry if you don't. --- This iCal file does *NOT* confirm registration.Event details subject to change. ---\r\n\r\n--- By Tendenci - The Open Source AMS for Associations ---\r\n
X-ALT-DESC;FMTTYPE=text/html:<div>--- This iCal file does *NOT* confirm registration.Event details subject to change. ---</div><h1>Event Title: Eynsham's Wildflower Meadows: planting out</h1><div>https://nature-recovery-network.org/events/143/</div><br /><div>When: Nov 16, 2025 10:00 AM Europe/London</div><br />Long Mead Local Wildlife Site<br />Oxford Road<br /> OX29 4BT<br /><div>http://maps.google.com/maps?q=Oxford+Road,Swinford,OX29 4BT</div><br /><div>Forecast: http://www.weather.com/weather/monthly/OX29 4BT</div><br /><br /><div><div>These are the&nbsp\;glorious Devil's Bit Scabious plants that NRN's plant propagation team have&nbsp\;grown for planting out, among other wonderful rare plants, in the new meadows. We have been fabulously supported in this by our friends at FarmAbility and Bridewell who have sown and potted on our wildflowers with us and own their own sites</div>
<div>&nbsp\;</div>
<div>It is always helpful if you can arrive at the beginning so that we can brief everyone together. But if you can&rsquo\;t make it then, we&rsquo\;d love to see you anyway.</div>
<div>&nbsp\;</div>
<div>Please bring&nbsp\;gloves and a spade or trowel if you have them. Don't worry if you don't.&nbsp\;</div></div><div>--- This iCal file does *NOT* confirm registration.Event details subject to change. ---</div><div>--- Tendenci&reg\; Software by <a href="https://www.tendenci.com">tendenci.com</a> - The Open Source AMS for Associations ---</div>
SUMMARY:Eynsham's Wildflower Meadows: planting out
PRIORITY:5
CLASS:PUBLIC
BEGIN:VALARM
TRIGGER:-PT30M
ACTION:DISPLAY
DESCRIPTION:Reminder
END:VALARM
END:VEVENT
END:VCALENDAR
