BEGIN:VCALENDAR
PRODID:-//Tendenci - The Open Source AMS for Associations//Tendenci Codebase 12 MIMEDIR//EN
VERSION:2.0
METHOD:PUBLISH
BEGIN:VEVENT
DTSTAMP:20260420T065338Z
ORGANIZER:Allen Stevens
DTSTART:20250316T140000Z
DTEND:20250316T160000Z
LOCATION:Long Mead Barn
TRANSP:OPAQUE
SEQUENCE:0
UID:uid136@nature-recovery-network.org
DESCRIPTION:--- This iCal file does *NOT* confirm registration.\r\nEvent details subject to change. ---\r\nhttps://nature-recovery-network.org/events/136/\r\n\r\nEvent Title: Bird surveyors' gathering\r\nStart Date / Time: Mar 16, 2025 14:00 PM Europe/London\r\nLocation: Long Mead Barn\r\nSpeaker: Allen Stevens\r\nGoogle\r\nhttp://maps.google.com/maps?q=Oxford+Road,Swinford,OX29 4BT\r\n\r\nForecast\nhttp://www.weather.com/weather/monthly/OX29 4BT\r\n\r\nDo you fancy joining NRN's Bird Survey Team? We need both expert birders and those keen to learn to carry out monthly bird surveys... \r\nWe are trying to understand trends in our local birds over time - both our rarest eg curlew, and our commonest, in case they too become rare.\r\nJoin us all at Long Mead barn to discuss plans for this year's spring and summer bird surveys around Eynsham.\r\nIf time and weather permits, we will have a wander around the meadow as well!--- This iCal file does *NOT* confirm registration.Event details subject to change. ---\r\n\r\n--- By Tendenci - The Open Source AMS for Associations ---\r\n
X-ALT-DESC;FMTTYPE=text/html:<div>--- This iCal file does *NOT* confirm registration.Event details subject to change. ---</div><h1>Event Title: Bird surveyors' gathering</h1><div>https://nature-recovery-network.org/events/136/</div><br /><div>When: Mar 16, 2025 14:00 PM Europe/London</div><div>Speaker: Allen Stevens</div><br />Long Mead Barn<br />Oxford Road<br /> OX29 4BT<br /><div>http://maps.google.com/maps?q=Oxford+Road,Swinford,OX29 4BT</div><br /><div>Forecast: http://www.weather.com/weather/monthly/OX29 4BT</div><br /><br /><div><p>Do you fancy joining NRN's Bird Survey Team? We need both expert birders and those keen to learn to carry out monthly bird surveys...&nbsp\;</p>
<p>We are trying to understand trends in our local birds over time - both our rarest eg curlew, and our commonest, in case they too become rare.</p>
<p>Join us all at&nbsp\;Long Mead barn to discuss plans for this year's spring and summer bird surveys around Eynsham.</p>
<p>If time and weather permits, we will have a wander around the meadow as well!</p></div><div>--- This iCal file does *NOT* confirm registration.Event details subject to change. ---</div><div>--- Tendenci&reg\; Software by <a href="https://www.tendenci.com">tendenci.com</a> - The Open Source AMS for Associations ---</div>
SUMMARY:Bird surveyors' gathering
PRIORITY:5
CLASS:PUBLIC
BEGIN:VALARM
TRIGGER:-PT30M
ACTION:DISPLAY
DESCRIPTION:Reminder
END:VALARM
END:VEVENT
END:VCALENDAR
