BEGIN:VCALENDAR
PRODID:-//Tendenci - The Open Source AMS for Associations//Tendenci Codebase 12 MIMEDIR//EN
VERSION:2.0
METHOD:PUBLISH
BEGIN:VEVENT
DTSTAMP:20260424T020709Z
ORGANIZER:Long Mead & Nature Recovery Network
DTSTART:20241201T100000Z
DTEND:20241201T150000Z
LOCATION:Neyotts Meadow near Eynsham Lock
TRANSP:OPAQUE
SEQUENCE:0
UID:uid121@nature-recovery-network.org
DESCRIPTION:--- This iCal file does *NOT* confirm registration.\r\nEvent details subject to change. ---\r\nhttps://nature-recovery-network.org/events/121/\r\n\r\nEvent Title: CANCELLED - FLOODS!! A Hedge in Time - a kilometre of 'linear forest to plant'!\r\nStart Date / Time: Dec 01, 2024 10:00 AM Europe/London\r\nLocation: Neyotts Meadow near Eynsham Lock\r\nGoogle\r\nhttp://maps.google.com/maps?q=Oxford+Road,Swinford,OX29 4BT\r\n\r\nForecast\nhttp://www.weather.com/weather/monthly/OX29 4BT\r\n\r\nSadly, we've had to cancel this as all the meadows are under water! So, free your diaries for 12th Jan when we willl attempt to plant the whole kilometre! Bring your friends!\r\n \r\nNRN's Hedge in Time Project began in 2020 in the Witney Road playground during Covid, since then NRN members have planted nearly two kilometres of hedgerow in 8 schools and villages in and around Eynsham. The idea, inspired by Freeland farmer Robert Crocker, is to connect up our villages, rivers and meadows by hedgerow With the 600 metres that we all planted last year now flourishing, we are planning to plant nearly one kilometre this year, on the 60 acres of land that we have leased for us all to restore adjacent to the River Thames. We will be in the Neyotts Meadow across the road from Long Mead, which runs from Oxford Road beyond the Talbot Inn to Eynsham Lock. We will leave from Long Mead at 10.00am. It is always helpful if you can arrive at the beginning so that we can brief everyone together. But if you can&rsquo\;t make it then, we&rsquo\;d love to see you anyway. There will be cake but please bring a thermos and a picnic lunch, spades, secateurs and gloves if you have them. We can provide them if you don't.\r\nHuge thanks to the Campaign for the Protection of Rural England and Wild Oxfordshire for funding the hedging plants as part of their Hedgerow Heroes Project.\r\n \r\n \r\n --- This iCal file does *NOT* confirm registration.Event details subject to change. ---\r\n\r\n--- By Tendenci - The Open Source AMS for Associations ---\r\n
X-ALT-DESC;FMTTYPE=text/html:<div>--- This iCal file does *NOT* confirm registration.Event details subject to change. ---</div><h1>Event Title: CANCELLED - FLOODS!! A Hedge in Time - a kilometre of 'linear forest to plant'!</h1><div>https://nature-recovery-network.org/events/121/</div><br /><div>When: Dec 01, 2024 10:00 AM Europe/London</div><br />Neyotts Meadow near Eynsham Lock<br />Oxford Road<br /> OX29 4BT<br /><div>http://maps.google.com/maps?q=Oxford+Road,Swinford,OX29 4BT</div><br /><div>Forecast: http://www.weather.com/weather/monthly/OX29 4BT</div><br /><br /><div><p>Sadly, we've had to cancel this as all the meadows are under water! So, free your diaries for 12th Jan when we willl attempt to plant the whole kilometre! Bring your friends!</p>
<p>&nbsp\;</p>
<p>NRN's Hedge in Time Project began in 2020 in the Witney Road playground during Covid, since then NRN members have planted nearly two kilometres of hedgerow in 8 schools and villages in and around Eynsham. The idea, inspired by Freeland farmer Robert Crocker, is to connect up our villages, rivers and meadows by hedgerow<br />&nbsp\;<br />With the 600 metres that we all planted last year now flourishing, we are&nbsp\;planning to plant nearly one kilometre&nbsp\;this year, on the 60 acres of land that we have leased for us all to restore adjacent to the River Thames.<br />&nbsp\;<br />We will be in the Neyotts Meadow across the road from Long Mead, which runs from Oxford Road beyond the Talbot Inn to Eynsham Lock. We will leave from Long Mead at 10.00am. It is always helpful if you can arrive at the beginning so that we can brief everyone together. But if you can&rsquo\;t make it then, we&rsquo\;d love to see you anyway.<br />&nbsp\;<br />There will be cake but please bring a thermos and a picnic lunch, spades, secateurs and&nbsp\;gloves if you have them. We can provide them if you don't.</p>
<p>Huge thanks to the Campaign for the Protection of Rural England and Wild Oxfordshire for funding the hedging plants as part of their Hedgerow Heroes Project.</p>
<p>&nbsp\;</p>
<p>&nbsp\;</p>
<p>&nbsp\;</p></div><div>--- This iCal file does *NOT* confirm registration.Event details subject to change. ---</div><div>--- Tendenci&reg\; Software by <a href="https://www.tendenci.com">tendenci.com</a> - The Open Source AMS for Associations ---</div>
SUMMARY:CANCELLED - FLOODS!! A Hedge in Time - a kilometre of 'linear forest to plant'!
PRIORITY:5
CLASS:PUBLIC
BEGIN:VALARM
TRIGGER:-PT30M
ACTION:DISPLAY
DESCRIPTION:Reminder
END:VALARM
END:VEVENT
END:VCALENDAR
