BEGIN:VCALENDAR
PRODID:-//Tendenci - The Open Source AMS for Associations//Tendenci Codebase 12 MIMEDIR//EN
VERSION:2.0
METHOD:PUBLISH
BEGIN:VEVENT
DTSTAMP:20260422T210434Z
ORGANIZER:
DTSTART:20240113T090000Z
DTEND:20240113T110000Z
LOCATION:Fishponds Car Park
TRANSP:OPAQUE
SEQUENCE:0
UID:uid104@nature-recovery-network.org
DESCRIPTION:--- This iCal file does *NOT* confirm registration.\r\nEvent details subject to change. ---\r\nhttps://nature-recovery-network.org/events/104/\r\n\r\nEvent Title: Bird ID Walk: Learn your Tweets and Hoots\r\nStart Date / Time: Jan 13, 2024 09:00 AM Europe/London\r\nLocation: Fishponds Car Park\r\nSpeaker: Allen Stevens and Sally Taylor, Sally Taylor and Allen Stevens\r\nWalk with local bird experts Allen Stevens and Sally Taylor and learn to identify our birds and their songs\r\n Photo: Barn owl box installation in St Leornards Churchyard\r\nJoin Nature Recovery Network&rsquo\;s Basic Bird Identification walk with experienced local birders, Allen Stevens and Sally Taylor. The walk will be the fifth in a series of bird surveying opportunities for NRN birding beginners. Those of you who are not already members of NRN, we'd love  you to join (&pound\;10 per year) in order to enjoy this workshop and many others for free. If you'd rather not join just yet, we ask you to pay &pound\;5 for this Bird Walk. This is partly because although we all give our services for free, NRN has significant costs to do what is is doing for our local nature. Also, these workshops are usually oversubscribed and we have found that people sign up and then don't turn up, depriving someone else of the opportunity. (To join NRN see below).\r\n \r\nThe walks will take place at the change of each season with one of NRN's local birding experts. They will be at a relaxed pace with regular stops, so are suitable for all ages. The main aim is to help anyone who is interested in getting a bit more familiar with basic bird recognition, song/calls and the best places to spot them.\r\n \r\n \r\nWalks will start at 09.00am at the Fishponds Car Park and finish by 11.00. Anyone who can only do an hour to finish at the half-way stop. Please bring binoculars if you have them.\r\n \r\n \r\nWe look forward to sharing some time with you in the Great Outdoors! \r\n \r\n\r\nPlease click here and give our local wildlife a Christmas present by becoming an NRN member! Not only will you be supporting compost/tool purchase etc. but you will get free access to all our survey workshops and discounted rates for workshops that we charge for.\r\n \r\n--- This iCal file does *NOT* confirm registration.Event details subject to change. ---\r\n\r\n--- By Tendenci - The Open Source AMS for Associations ---\r\n
X-ALT-DESC;FMTTYPE=text/html:<div>--- This iCal file does *NOT* confirm registration.Event details subject to change. ---</div><h1>Event Title: Bird ID Walk: Learn your Tweets and Hoots</h1><div>https://nature-recovery-network.org/events/104/</div><br /><div>When: Jan 13, 2024 09:00 AM Europe/London</div><div>Speaker: Allen Stevens and Sally Taylor, Sally Taylor and Allen Stevens</div><br /><div><h4>Walk with local bird experts Allen Stevens and Sally Taylor and learn to identify our birds and their songs</h4>
<p>&nbsp\;Photo: Barn owl box installation in St Leornards Churchyard</p>
<p>Join Nature Recovery Network&rsquo\;s Basic Bird Identification walk with experienced local birders, Allen Stevens and Sally Taylor. The walk will be the fifth in a series of bird surveying opportunities for NRN birding beginners. Those of you who are not already members of NRN, we'd love&nbsp\; you to join (&pound\;10 per year) in order to enjoy this workshop and many others for free. If you'd rather not join just yet, we ask you to pay &pound\;5 for this Bird Walk. This is partly because although we all&nbsp\;give our services for free, NRN has significant costs to do what is is doing for our local nature. Also, these workshops are usually oversubscribed and we have found that people sign up and then don't turn up, depriving someone else of the opportunity. (To join NRN see below).</p>
<div class="">&nbsp\;</div>
<div class="">The walks will take place at the change of each season with one of NRN's local birding experts. They will be at a relaxed pace with regular stops, so are suitable for all ages. The main aim is to help anyone who is interested in getting a bit more familiar with basic bird recognition, song/calls and the best places to spot them.</div>
<div class="">&nbsp\;</div>
<div class="">&nbsp\;</div>
<div class="">Walks will start at 09.00am at the Fishponds Car Park and finish by 11.00. Anyone who can only do an hour to finish at the half-way stop. Please bring binoculars if you have them.</div>
<div class="">&nbsp\;</div>
<div class="">&nbsp\;</div>
<div class="">We look forward to sharing some time with you in the Great Outdoors!&nbsp\;</div>
<div class="">&nbsp\;</div>
<div class="">
<p>Please <strong><a href="https://www.nature-recovery-network.org/join-our-network/">click here</a></strong> and give our local wildlife a Christmas present by becoming an NRN member! Not only will you be supporting compost/tool purchase etc. but you will get free access to all our survey workshops and discounted rates for workshops that we charge for.</p>
<p>&nbsp\;</p>
</div></div><div>--- This iCal file does *NOT* confirm registration.Event details subject to change. ---</div><div>--- Tendenci&reg\; Software by <a href="https://www.tendenci.com">tendenci.com</a> - The Open Source AMS for Associations ---</div>
SUMMARY:Bird ID Walk: Learn your Tweets and Hoots
PRIORITY:5
CLASS:PUBLIC
BEGIN:VALARM
TRIGGER:-PT30M
ACTION:DISPLAY
DESCRIPTION:Reminder
END:VALARM
END:VEVENT
END:VCALENDAR
