BEGIN:VCALENDAR
PRODID:-//Tendenci - The Open Source AMS for Associations//Tendenci Codebase 12 MIMEDIR//EN
VERSION:2.0
METHOD:PUBLISH
BEGIN:VEVENT
DTSTAMP:20260422T142533Z
ORGANIZER:Nature Recovery Network
DTSTART:20240127T100000Z
DTEND:20240127T130000Z
LOCATION:Eynsham Playing Fields
TRANSP:OPAQUE
SEQUENCE:0
UID:uid102@nature-recovery-network.org
DESCRIPTION:--- This iCal file does *NOT* confirm registration.\r\nEvent details subject to change. ---\r\nhttps://nature-recovery-network.org/events/102/\r\n\r\nEvent Title: Come Celebrate our winter weather with some Hedge-Planting!\r\nStart Date / Time: Jan 27, 2024 10:00 AM Europe/London\r\nLocation: Eynsham Playing Fields\r\nGoogle\r\nhttp://maps.google.com/maps?q=1+Oxford+Road,Eynsham,OX29 4HG\r\n\r\nForecast\nhttp://www.weather.com/weather/monthly/OX29 4HG\r\n\r\n\r\n\r\nCome and celebrate winter by creating a wildlife corridor from Eynsham's Playing Field and the Neyotts Meadow that runs down to Eynsham Lock\r\n \r\n \r\nBring your spades, or your sorting skills, or simply yours cheers for the planters...\r\nCome on your own, with your families or your community group!\r\nWe are planning to extent the playing fields hedgerow on the north side and the to extend this wildlife corridor by planting a hedge in the Neyotts the meadow that runs down to Eynsham Lock. It is a big job with over 200 meters to plant &ndash\; that&rsquo\;s 40 people if we plant 5m meters each! So, come on down and bring as many fit friends as you can&hellip\;\r\nIf you&rsquo\;re not a dab-hand with a spade (although we will be making slits not holes), there are also jobs to be done sorting the whips of hawthorn, blackthorn, dog rose, dogwood, guelder rose and hazel into an elegant pattern and handing them out to the planters.\r\nFor those of you who have been propagating local native trees in your garden, we are planning to add them as in-hedge trees so that you and your descendants can watch them grow. Please bring them with you on the day.\r\nPlease bring spades and secateurs and cardboard for mulching if you have them. If you don't, we have lots. And please try and get there for 10am if you can. It makes briefing everyone easier.  Also, the national board of Campaign for the Protection of Rural England, who have funded the hedgerow plants are coming to see how we do it!\r\n\r\n\r\n --- This iCal file does *NOT* confirm registration.Event details subject to change. ---\r\n\r\n--- By Tendenci - The Open Source AMS for Associations ---\r\n
X-ALT-DESC;FMTTYPE=text/html:<div>--- This iCal file does *NOT* confirm registration.Event details subject to change. ---</div><h1>Event Title: Come Celebrate our winter weather with some Hedge-Planting!</h1><div>https://nature-recovery-network.org/events/102/</div><br /><div>When: Jan 27, 2024 10:00 AM Europe/London</div><br />Eynsham Playing Fields<br />1 Oxford Road<br /> OX29 4HG<br /><div>http://maps.google.com/maps?q=1+Oxford+Road,Eynsham,OX29 4HG</div><br /><div>Forecast: http://www.weather.com/weather/monthly/OX29 4HG</div><br /><br /><div><div class="content">
<div class="event-desc">
<h3>Come and celebrate winter by creating a wildlife corridor from Eynsham's Playing Field and the Neyotts Meadow that runs down to Eynsham Lock</h3>
<p>&nbsp\;</p>
<p>&nbsp\;</p>
<p>Bring your spades, or your sorting skills, or simply yours cheers for the planters...</p>
<p>Come on your own, with your families or your community group!</p>
<p>We are planning to extent the playing fields hedgerow on the north side and the to extend this wildlife corridor by planting a hedge in the Neyotts the meadow that runs down to Eynsham Lock. It is a big job with over 200 meters to plant &ndash\; that&rsquo\;s 40 people if we plant 5m meters each! So, come on down and bring as many fit friends as you can&hellip\;</p>
<p>If you&rsquo\;re not a dab-hand with a spade (although we will be making slits not holes), there are also jobs to be done sorting the whips of hawthorn, blackthorn, dog rose, dogwood, guelder rose and hazel into an elegant pattern and handing them out to the planters.</p>
<p>For those of you who have been propagating local native trees in your garden, we are planning to add them as in-hedge trees so that you and your descendants can watch them grow. Please bring them with you on the day.</p>
<p>Please bring spades and secateurs and cardboard for mulching if you have them. If you don't, we have lots. And please try and&nbsp\;get there for 10am if you can. It makes briefing everyone easier.&nbsp\; Also, the national board of Campaign for the Protection of Rural England, who have funded the hedgerow plants are coming to see how we do it!</p>
</div>
</div>
<p>&nbsp\;</p></div><div>--- This iCal file does *NOT* confirm registration.Event details subject to change. ---</div><div>--- Tendenci&reg\; Software by <a href="https://www.tendenci.com">tendenci.com</a> - The Open Source AMS for Associations ---</div>
SUMMARY:Come Celebrate our winter weather with some Hedge-Planting!
PRIORITY:5
CLASS:PUBLIC
BEGIN:VALARM
TRIGGER:-PT30M
ACTION:DISPLAY
DESCRIPTION:Reminder
END:VALARM
END:VEVENT
END:VCALENDAR
